BEGIN:VCALENDAR
VERSION:2.0
PRODID:-//Christian Council of Lesotho - ECPv6.15.11//NONSGML v1.0//EN
CALSCALE:GREGORIAN
METHOD:PUBLISH
X-WR-CALNAME:Christian Council of Lesotho
X-ORIGINAL-URL:https://ccl.org.ls
X-WR-CALDESC:Events for Christian Council of Lesotho
REFRESH-INTERVAL;VALUE=DURATION:PT1H
X-Robots-Tag:noindex
X-PUBLISHED-TTL:PT1H
BEGIN:VTIMEZONE
TZID:Europe/Helsinki
BEGIN:DAYLIGHT
TZOFFSETFROM:+0200
TZOFFSETTO:+0300
TZNAME:EEST
DTSTART:20160327T010000
END:DAYLIGHT
BEGIN:STANDARD
TZOFFSETFROM:+0300
TZOFFSETTO:+0200
TZNAME:EET
DTSTART:20161030T010000
END:STANDARD
BEGIN:DAYLIGHT
TZOFFSETFROM:+0200
TZOFFSETTO:+0300
TZNAME:EEST
DTSTART:20170326T010000
END:DAYLIGHT
BEGIN:STANDARD
TZOFFSETFROM:+0300
TZOFFSETTO:+0200
TZNAME:EET
DTSTART:20171029T010000
END:STANDARD
BEGIN:DAYLIGHT
TZOFFSETFROM:+0200
TZOFFSETTO:+0300
TZNAME:EEST
DTSTART:20180325T010000
END:DAYLIGHT
BEGIN:STANDARD
TZOFFSETFROM:+0300
TZOFFSETTO:+0200
TZNAME:EET
DTSTART:20181028T010000
END:STANDARD
END:VTIMEZONE
BEGIN:VEVENT
DTSTART;TZID=Europe/Helsinki:20170710T080000
DTEND;TZID=Europe/Helsinki:20170714T170000
DTSTAMP:20260424T101259
CREATED:20170704T131206Z
LAST-MODIFIED:20170704T131206Z
UID:865-1499673600-1500051600@ccl.org.ls
SUMMARY:Community dialogues on reforms
DESCRIPTION:
URL:https://ccl.org.ls/event/community-dialogues-on-reforms/
ORGANIZER;CN="CCL":MAILTO:projectmanager@ccl.org.ls
END:VEVENT
END:VCALENDAR